BEGIN:VCALENDAR
VERSION:2.0
PRODID:-//YourOrganization//EventDownload//DE
CALSCALE:GREGORIAN
METHOD:PUBLISH
BEGIN:VEVENT
UID:69e994c9d1b05@leapup.bitshifters.cloud
DTSTAMP:20260423T054057Z
DTSTART:20131017T000000Z
DTEND:20131018T000000Z
SUMMARY:BioÖkonomieTage
DESCRIPTION:Das Innovationsforum f&uuml\;r Forschung und Praxis zur St&auml\;rkung einer bio-basierten Wirtschaft.
END:VEVENT
END:VCALENDAR
