BEGIN:VCALENDAR
VERSION:2.0
PRODID:-//YourOrganization//EventDownload//DE
CALSCALE:GREGORIAN
METHOD:PUBLISH
BEGIN:VEVENT
UID:69e6f697c9255@leapup.bitshifters.cloud
DTSTAMP:20260421T060127Z
DTSTART:20130917T000000Z
DTEND:20130919T000000Z
SUMMARY:BioPharm America™ 2013
DESCRIPTION:
END:VEVENT
END:VCALENDAR
