BEGIN:VCALENDAR
VERSION:2.0
PRODID:-//YourOrganization//EventDownload//DE
CALSCALE:GREGORIAN
METHOD:PUBLISH
BEGIN:VEVENT
UID:69e62c79f042d@leapup.bitshifters.cloud
DTSTAMP:20260420T153905Z
DTSTART:20180906T160000Z
DTEND:20180906T200000Z
SUMMARY:biosaoxny: AG Standortentwicklung
DESCRIPTION:Wir laden Sie recht herzlich zu unserer AG Standortentwicklung am 06.09.2018\, um 16:00 Uhr ins Leipziger SpinLab – The HHL Accelerator\, Spinnereistrasse 7\, 04179 Leipzig (Halle 14\, 2. Etage) ein.\nNeben der Präsentation/Vorstellung des SpinLabs als Erfolgsmodell für einen Accelerator stehen die folgenden Themen auf der Tagesordnung:\n-       Vorstellung der Wachstumsregion Dresden-       BIO Europe 2021-       Präsentation der von der WFS ermittelten Kennzahlen der Medtech-/Biotech-Branche in Sachsen\nDie Beschreibung der Anfahrt und der Parkmöglichkeiten haben wir für Sie HIER verlinkt.\nAnmeldung bis 29.08.2018 unter info@biosaxony.com\n 
LOCATION:SpinLab - The HHL Accelerator\, Spinnereistrasse 7\, Halle 14\, 2. Etage\, 04179  Leipzig 
END:VEVENT
END:VCALENDAR
