BEGIN:VCALENDAR
VERSION:2.0
PRODID:-//YourOrganization//EventDownload//DE
CALSCALE:GREGORIAN
METHOD:PUBLISH
BEGIN:VEVENT
UID:69e4c4ed9d1c2@leapup.bitshifters.cloud
DTSTAMP:20260419T140501Z
DTSTART:20250827T143000Z
DTEND:20250827T210000Z
SUMMARY:biosaxony e.V. Mitgliederversammlung & leap:up Sommerfest
DESCRIPTION:biosaxony e.V. Mitgliederversammlung und leap:up Sommerfest am 27.08.25 in der BIO CITY LEIPZIG\nDie Mitgliederversammlung findet von 14:30 - 16:30 Uhr statt. Unter diesem Link können Sie sich anmelden.\nIm Anschluss folgt unser Sommerfest\, freuen Sie sich auf:\n\nLivemusik in angenehmer Atmosphäre mit dem Duo Jasmin Graf und Arne Donadell\nausgewählte Cocktails und ein vielfältiges Abendbuffet\nkreative Aufnahmen mit dem KI-Fotospiegel\, gesponsert von der Techniker Krankenkasse\ndie Möglichkeit\, sich mit anderen Akteurinnen und Akteuren aus der Life Science Community auszutauschen und zu vernetzen\nAnmeldeschluss: 13.08.25\n\nWir freuen uns auf Ihre Teilnahme!
LOCATION:Bio City Leipzig\, Deutscher Platz 5c\, 04103 Leipzig
END:VEVENT
END:VCALENDAR
