BEGIN:VCALENDAR
VERSION:2.0
PRODID:-//YourOrganization//EventDownload//DE
CALSCALE:GREGORIAN
METHOD:PUBLISH
BEGIN:VEVENT
UID:69e5d7a4eb8cc@leapup.bitshifters.cloud
DTSTAMP:20260420T093708Z
DTSTART:20200909T150000Z
DTEND:20200909T170000Z
SUMMARY:biosaxony Mitgliederversammlung
DESCRIPTION:
LOCATION:BioInnovationsZentrum Dresden\, 01307 Dresden
END:VEVENT
END:VCALENDAR
