BEGIN:VCALENDAR
VERSION:2.0
PRODID:-//YourOrganization//EventDownload//DE
CALSCALE:GREGORIAN
METHOD:PUBLISH
BEGIN:VEVENT
UID:69e57beadfd7a@leapup.bitshifters.cloud
DTSTAMP:20260420T030546Z
DTSTART:20220712T130000Z
DTEND:20220712T210000Z
SUMMARY:biosaxony Mitgliederversammlung | Opening Medical Forge | Netzwerkparty
DESCRIPTION:\nWE&rsquo\;LL LIGHT THE FIRE! Wir sind bereit die Feuer der MEDICAL FORGE Leipzig zu entz&uuml\;nden. Wir freuen uns Ihnen die Startups der ersten Runde vorstellen zu k&ouml\;nnen und wieder vor Ort mit Ihnen ins Gespr&auml\;ch zu kommen. Zudem wird es die M&ouml\;glichkeit geben\, die R&auml\;ume der MEDICAL FORGE zu besichtigen. Den Abschluss bildet unsere Netzwerkparty in Kombination mit dem biosaxony Sommerfest mit Live Musik und jeder Menge Gespr&auml\;chsm&ouml\;glichkeiten in entspannter Atmosph&auml\;re.\nWas?&nbsp\;&nbsp\;&nbsp\;&nbsp\;&nbsp\;&nbsp\;&nbsp\;&nbsp\;&nbsp\;&nbsp\;&nbsp\;&nbsp\;&nbsp\;&nbsp\; Opening der MEDICAL FORGE Leipzig\nWann?&nbsp\;&nbsp\;&nbsp\;&nbsp\;&nbsp\;&nbsp\;&nbsp\;&nbsp\;&nbsp\;&nbsp\;&nbsp\;&nbsp\; 12. Juli 2022 // 15:30 bis 16:30 Uhr danach Netzwerkparty mit Open End\nWo?&nbsp\;&nbsp\;&nbsp\;&nbsp\;&nbsp\;&nbsp\;&nbsp\;&nbsp\;&nbsp\;&nbsp\;&nbsp\;&nbsp\;&nbsp\;&nbsp\;&nbsp\;&nbsp\; BIO CITY LEIPZIG // Deutscher Platz 5\, 04103 Leipzig\nHier k&ouml\;nnen Sie unseren Flyer downloaden!\nVorl&auml\;ufige Agenda:\n\n13:00 &ndash\; 15:00 Uhr Mitgliederversammlung biosaxony e.V.\n\n\n15:30 &ndash\; 16:30 Uhr&nbsp\;&nbsp\; Opening der MEDICAL FORGE Leipzig\n\n\nBegr&uuml\;&szlig\;ung und Moderation\, Frau Simone Haubner &ndash\; COO MEDICAL FORGE\n\nGru&szlig\;wort: Herr Staatsminister Martin Dulig - S&auml\;chsisches Staatsministerium f&uuml\;r Wirtschaft\, Arbeit und Verkehr \nGru&szlig\;wort: Herr Clemens Sch&uuml\;lke\, Leiter des Amtes f&uuml\;r Wirtschaftsf&ouml\;rderung der Stadt Leipzig\n\nOffizielle Er&ouml\;ffnung\, Herr Andr&eacute\; Hofmann &ndash\; CEO biosaxony / MEDICAL FORGE\n\n\n\n&nbsp\;Ab 16:30 Uhr Netzwerkparty und Sommerfest\n\nTeilnahmebedingungen:\n\nDie Veranstaltung ist f&uuml\;r Teams und Partner der Medical Forge\, pers&ouml\;nliche biosaxony Mitglieder und eine Person je Mitgliedsunternehmen kostenfrei.\nAb der zweiten teilnehmenden Person betr&auml\;gt die Kostenbeteiligung 25\,00 &euro\; netto pro Person.\nDie Kostenbeteiligung f&uuml\;r Nichtmitglieder betr&auml\;gt 35\,00 &euro\; netto pro Person.\n\nBitte beachten Sie unsere Veranstaltungs-AGB.\nAnmeldefrist: 30.06.2022\nZur Registrierung\n\n&nbsp\;
LOCATION:BIO CITY LEIPZIG\, Deutscher Platz 5\, 04103 Leipzig
END:VEVENT
END:VCALENDAR
