BEGIN:VCALENDAR
VERSION:2.0
PRODID:-//YourOrganization//EventDownload//DE
CALSCALE:GREGORIAN
METHOD:PUBLISH
BEGIN:VEVENT
UID:69e4c26fb2d10@leapup.bitshifters.cloud
DTSTAMP:20260419T135423Z
DTSTART:20240124T160000Z
DTEND:20240124T210000Z
SUMMARY:biosaxony Neujahrsempfang 2024
DESCRIPTION:&nbsp\;\n\nWir laden unsere Mitglieder und Partner des biosaxony e.V. herzlich am Mittwoch\, den 24. Januar 2024&nbsp\;ab 16.00 Uhr zu unserem Neujahrsempfang&nbsp\;in die Lancaster University Leipzig&nbsp\;ein.&nbsp\;Wir&nbsp\;m&ouml\;chten unsere Mitglieder zusammenbringen\, den Austausch von Ideen f&ouml\;rdern&nbsp\;und unseren&nbsp\;Neumitgliedern die M&ouml\;glichkeit bieten\, sich in kurzen&nbsp\;Pitches vorzustellen.Sie sind Neumitglied und m&ouml\;chten Ihr Unternehmen in einem&nbsp\;3-Minuten-Pitch pr&auml\;sentieren? Dann kontaktieren Sie Claudia Fischer&nbsp\;unter fischer@biosaxony.com.Wir freuen uns darauf\, in gem&uuml\;tlicher Atmosph&auml\;re&nbsp\;miteinander ins Gespr&auml\;ch zu kommen und gemeinsam mit Ihnen auf ein gesundes und erfolgreiches neues Jahr anzusto&szlig\;en.\nDie Teilnehmerzahl f&uuml\;r die Veranstaltung ist begrenzt.\nAnmeldefrist: 17.01.2024\nBitte beachten Sie:\nDie Veranstaltung ist f&uuml\;r unsere Mitglieder und Kooperationspartner kostenfrei.&nbsp\;\n&nbsp\;JETZT ANMELDEN
LOCATION: Lancaster University Leipzig | Strohsack-Passage | 7. Etage | Nikolaistraße 10\, Strohsack-Passage | 7. Etage | Nikolaistraße 10\, 04109 Leipzig
END:VEVENT
END:VCALENDAR
