BEGIN:VCALENDAR
VERSION:2.0
PRODID:-//YourOrganization//EventDownload//DE
CALSCALE:GREGORIAN
METHOD:PUBLISH
BEGIN:VEVENT
UID:69e4dbdef3f40@leapup.bitshifters.cloud
DTSTAMP:20260419T154254Z
DTSTART:20250123T160027Z
DTEND:20250123T210027Z
SUMMARY:biosaxony Neujahrsempfang 2025
DESCRIPTION:Wir laden Sie recht herzlich am Donnerstag\, den 23. Januar 2025&nbsp\;ab 16.00 Uhr&nbsp\;zu unserem&nbsp\;biosaxony&nbsp\;Neujahrsempfang&nbsp\;in das&nbsp\;BioInnovationsZentrum Dresden&nbsp\;ein.\n\nZu diesem Anlass m&ouml\;chten wir unsere Neumitglieder vorstellen\, miteinander ins Gespr&auml\;ch kommen und gemeinsam mit Ihnen auf ein erfolgreiches neues Jahr ansto&szlig\;en.\nDie Teilnehmerzahl f&uuml\;r die Veranstaltung ist begrenzt.\nAnmeldefrist: 16.01.2025\nZur Anmeldung\nBitte beachten Sie:\nDie Veranstaltung ist f&uuml\;r unsere Mitglieder und Kooperationspartner&nbsp\;kostenfrei.\nWir freuen uns auf Sie!&nbsp\;Ihr biosaxony Team\n\n
LOCATION:BioInnovationsZentrum Dresden\, Tatzberg 47\, 01307 Dresden
END:VEVENT
END:VCALENDAR
