BEGIN:VCALENDAR
VERSION:2.0
PRODID:-//YourOrganization//EventDownload//DE
CALSCALE:GREGORIAN
METHOD:PUBLISH
BEGIN:VEVENT
UID:69e4c85148495@leapup.bitshifters.cloud
DTSTAMP:20260419T141929Z
DTSTART:20240529T170000Z
DTEND:20240529T210000Z
SUMMARY:biosaxony Sommerfest
DESCRIPTION:\nWir m&ouml\;chten gemeinsam mit Ihnen&nbsp\;das 15-j&auml\;hrige Jubil&auml\;um von biosaxony&nbsp\;feiern und laden Sie herzlich zum diesj&auml\;hrigen&nbsp\;Sommerfest&nbsp\;ein.\nDie Anleger der WEI&szlig\;EN FLOTTE SACHSEN befinden sich zwischen der Augustus- und der Albertbr&uuml\;cke. Eine &Uuml\;bersicht der einzelnen Anleger sowie Informationen zu Parkm&ouml\;glichkeiten und Haltestellen finden Sie&nbsp\;hier.\nWir freuen uns darauf\, diesen besonderen Anlass mit Ihnen zu feiern!\nDie Veranstaltung ist f&uuml\;r pers&ouml\;nliche Mitglieder und eine Person je Mitgliedsunternehmen kostenfrei. Ab der zweiten teilnehmenden Person betr&auml\;gt die Kostenbeteiligung 40\,00 &euro\; netto pro Person.\n​​​​​​​Die Kostenbeteiligung f&uuml\;r Nichtmitglieder betr&auml\;gt 55\,00 &euro\; netto pro Person.\n​​​​​​​Die Teilnehmerzahl f&uuml\;r die Veranstaltung ist begrenzt. Anmeldungen werden in der Reihenfolge ihres Eingangs ber&uuml\;cksichtigt.\nAnmeldeschluss: 15.05.2024\nJETZT ANMELDEN\nEin Hinweis f&uuml\;r die Damen:&nbsp\;Bitte verzichten Sie auf das Tragen von spitzen Pfennigabs&auml\;tzen\, die das Parkett des Schiffes zerkratzen w&uuml\;rden.\nWir freuen uns darauf\, diesen besonderen Anlass mit Ihnen zu feiern!
LOCATION:Weiße Flotte Dresden\, Terrassenufer | Anlegestelle 5\, 01067 Dresden
END:VEVENT
END:VCALENDAR
