BEGIN:VCALENDAR
VERSION:2.0
PRODID:-//YourOrganization//EventDownload//DE
CALSCALE:GREGORIAN
METHOD:PUBLISH
BEGIN:VEVENT
UID:69e4c50c0873f@leapup.bitshifters.cloud
DTSTAMP:20260419T140532Z
DTSTART:20240314T160000Z
DTEND:20240314T183000Z
SUMMARY:biosaxony vor Ort: Künstliche Intelligenz für KMUs - Exploring AI in Life Sciences
DESCRIPTION:QuoData fühlt sich geehrt und freut sich\, die Federführung für das kommende "biosaxony AI-Event - K&uuml\;nstliche Intelligenz f&uuml\;r KMUs" zu übernehmen. Vielen Dank an biosaxony für diese außergewöhnliche Gelegenheit.>\nZeit&nbsp\;Ablauf16:00 &ndash\; 16:10&nbsp\;Begrüßung\n16:10 &ndash\; 16:20 Einführung in die Biosaxony durch Herrn Andr&eacute\; Hofmann\n16:20 &ndash\; 16:35 "Embracing AI: Transforming measurement data into insights and actions" von Herrn Kapil Nichani\, QuoData&nbsp\;BREAK\n16:45 &ndash\; 17:00 "Unlocking the potential of advanced molecular diagnostic tools" von Dr. Kristin Reiche\, Fraunhofer IZI\n17:00 &ndash\; 17:15 "Embracing Uncertainty: Advances for Image Segmentation in Life Sciences and beyond" von Peter Steinbach\, HZDR\n17:15 &ndash\; 17:30 "Thema wird noch bekannt gegeben" von Bj&ouml\;rn Degenkolbe\, 4K Analytics&nbsp\;BREAK\n17:40 &ndash\; 18:15 Breakout Sessions\n18:15 &ndash\; 18:25 Schlussworte&nbsp\;Networking mit Getränken und Snacks\nNutzen Sie die Teilnahme an der Veranstaltung\, um neue Kontakte zu knüpfen und sinnvolle Geschäfts- und Lernmöglichkeiten zu schaffen.\nDie Teilnahme ist kostenlos.\nFüllen Sie bitte das Formular aus\, um Ihre Teilnahme zu bestätigen hier.
LOCATION:QuoData\, Prellerstrasse 14\, 01309 Dresden
END:VEVENT
END:VCALENDAR
