BEGIN:VCALENDAR
VERSION:2.0
PRODID:-//YourOrganization//EventDownload//DE
CALSCALE:GREGORIAN
METHOD:PUBLISH
BEGIN:VEVENT
UID:69e6f698c9d7e@leapup.bitshifters.cloud
DTSTAMP:20260421T060128Z
DTSTART:20140113T000000Z
DTEND:20140115T000000Z
SUMMARY:Biotech Showcase™ 2014
DESCRIPTION:
END:VEVENT
END:VCALENDAR
