BEGIN:VCALENDAR
VERSION:2.0
PRODID:-//YourOrganization//EventDownload//DE
CALSCALE:GREGORIAN
METHOD:PUBLISH
BEGIN:VEVENT
UID:69e961f3a4bd8@leapup.bitshifters.cloud
DTSTAMP:20260423T020403Z
DTSTART:20140617T100000Z
DTEND:20140617T170000Z
SUMMARY:"Business trifft Afrika" in der Industrie- und Handelskammer Chemnitz
DESCRIPTION:Herr Frank Heinrich\, MdB\, die Industrie- und Handelskammer Chemnitz und der Afrika-Verein der deutschen Wirtschaft laden Sie gemeinsam zu &bdquo\;Business trifft Afrika&ldquo\; am 17. Juni 2014 in die IHK Chemnitz ein. Neben konkreten Tipps zum Markteintritt stellt die Teilnahme von afrikanischen Botschaftern eine gute Gelegenheit dar\, sich &uuml\;ber den Zukunftskontinent Afrika zu informieren und sofort Kontakte zu kn&uuml\;pfen.  Als Chemnitzer Bundestagsabgeordneter und Vizepr&auml\;sident des Arbeitskreises Afrika der CDU/CSU-Fraktion begleitet und engagiert sich Frank Heinrich f&uuml\;r den Aufschwung unseres Nachbarkontinents: In Subsahara-Afrika w&auml\;chst die Wirtschaft j&auml\;hrlich um sechs Prozent. Die geografische N&auml\;he spielt eine bedeutende Rolle. Durch das hohe Bev&ouml\;lkerungswachstum und die positive soziale Entwicklung steigt die Nachfrage. Afrika wird so zum lohnenden Markt auch f&uuml\;r deutsche Unternehmen. Nicht zuletzt ist das afrikanische Interesse an deutschem Know-how und professioneller deutscher Arbeitsweise gro&szlig\;.
END:VEVENT
END:VCALENDAR
