BEGIN:VCALENDAR
VERSION:2.0
PRODID:-//YourOrganization//EventDownload//DE
CALSCALE:GREGORIAN
METHOD:PUBLISH
BEGIN:VEVENT
UID:69e98335b0e73@leapup.bitshifters.cloud
DTSTAMP:20260423T042557Z
DTSTART:20131023T000000Z
DTEND:20131023T000000Z
SUMMARY:CAT-TRM Leipzig Collaborative Workshop on 23 October 2013
DESCRIPTION:
END:VEVENT
END:VCALENDAR
