BEGIN:VCALENDAR
VERSION:2.0
PRODID:-//YourOrganization//EventDownload//DE
CALSCALE:GREGORIAN
METHOD:PUBLISH
BEGIN:VEVENT
UID:69e8cc6be8d3d@leapup.bitshifters.cloud
DTSTAMP:20260422T152603Z
DTSTART:20191106T090000Z
DTEND:20191106T170000Z
SUMMARY:CE-Kennzeichnung im Maschinenbau
DESCRIPTION:Sie sind Hersteller einer Maschine\, Anlage oder von anderen technischen Produkten und möchten diese in Verkehr bringen? Doch welche rechtlichen Rahmenbedingungen muss man als Hersteller beachten?\nDer Vortrag „CE-Kennzeichnung im Maschinenbau“ zeigt hierzu genau auf\, welche dieser Rahmenbedingungen zu beachten sind\, und wie man diese Bedingungen technisch umsetzt. Beginnend mit einem allgemeinen Überblick über das Thema CE-Kennzeichnung werden folglich die Maschinenrichtlinie und Wege zur Umsetzung ihrer Anforderungen (z.B. Konformitätserklärung) aufgezeigt. Desweiteren werden Ihnen Grundlagen zum Thema Akustik &amp\; EMV (Elektromagnetische Verträglichkeit) vermittelt – auch hier müssen Maschinenhersteller gesetzliche Vorgaben beachten und umsetzen.\nINHALT:\n\nGrundlagen zur CE-Kennzeichnung\nEG-Konformität von Maschinen und Anlagen\nMaschinenrichtlinie 2006/42/EG\nEMV-Anforderungen\nLärmparameter- und Schallleistungsbestimmung\nRisikoanalyse und Risikomanagement\n\nPREIS:\nbiosaxony-Mitglieder erhalten einen Rabatt von 4%.\nBIOSAXONY Mitglieder: 432 € (netto) NICHT-Mitglieder: 450 € (netto)\nBitte nutzen Sie für Ihre Anmeldung unsere hier verlinkte online Registrierung.
LOCATION:SLG Akademie GmbH\, Burgstädter Straße 20\, 09232 Hartmannsdorf
END:VEVENT
END:VCALENDAR
