BEGIN:VCALENDAR
VERSION:2.0
PRODID:-//YourOrganization//EventDownload//DE
CALSCALE:GREGORIAN
METHOD:PUBLISH
BEGIN:VEVENT
UID:69e535bea1983@leapup.bitshifters.cloud
DTSTAMP:20260419T220622Z
DTSTART:20240924T134500Z
DTEND:20240924T160000Z
SUMMARY:Charging Up: Die Auswirkungen der Europäischen Batterie-Verordnung auf Medizinprodukte-Hersteller und Zulieferer
DESCRIPTION:Im Dezember 2020 hat die Europ&auml\;ische Kommission den Entwurf f&uuml\;r eine neue Batterieverordnung (BattVO\, (EU) 2023/1542) vorgelegt. Diese trat im August 2023 in Kraft und gilt in den Mitgliedstaaten seit Februar 2024. Die neue Verordnung reguliert den Batteriemarkt deutlich umfassender und enth&auml\;lt Bestimmungen zu Sorgfaltspflichten in der Lieferkette\, Beschr&auml\;nkungen f&uuml\;r gef&auml\;hrliche Stoffe\, Anforderungen an das Produktdesign wie die Austauschbarkeit von Batterien\, den CO2-Fu&szlig\;abdruck\, Quoten f&uuml\;r den Einsatz von Recyclingmaterialien und den Batteriepass sowie die Sammlung und Behandlung von Altbatterien.&nbsp\;\nIn unserer Veranstaltung wird Ihnen RA Michael &Ouml\;ttinger (Produktkanzlei\, Augsburg) erl&auml\;utern\, welche Pflichten sich aus der BattVO f&uuml\;r Medizinprodukte-Hersteller und deren Zulieferer ergeben.&nbsp\;&nbsp\;\nIm zweiten Vortrag wird Dr. Michael Riess (VDE Pr&uuml\;f- und Zertifizierungsinstitut GmbH\, Offenbach/Main) auf Stoffbeschr&auml\;nkungen und Carbon Footprint bei Batterien eingehen.&nbsp\;\nWir freuen uns auf Ihre Teilnahme!\nMEHR
LOCATION:MS Teams\, Offenbach
END:VEVENT
END:VCALENDAR
