BEGIN:VCALENDAR
VERSION:2.0
PRODID:-//YourOrganization//EventDownload//DE
CALSCALE:GREGORIAN
METHOD:PUBLISH
BEGIN:VEVENT
UID:69e6af61d83b1@leapup.bitshifters.cloud
DTSTAMP:20260421T005737Z
DTSTART:20150120T084500Z
DTEND:20150120T163000Z
SUMMARY:CIO-Campus – „Wasser und Wertstoffe - Kreislaufwirtschaft als Wachstumsimpuls“
DESCRIPTION:Am 20. Januar 2015 organisiert die CLEANTECH Initiative Ostdeutschland (CIO)&nbsp\; in Kooperation mit dem Fraunhofer Institut f&uuml\;r Keramische Technologien und Systeme IKTS eine Veranstaltung zum Thema &bdquo\;Wasser und Wertstoffe - Kreislaufwirtschaft als Wachstumsimpuls&ldquo\;.\n&nbsp\;Experten aus Forschung\, Industrie und Politik treffen sich\, um &uuml\;ber die neuesten techno-logischen Entwicklungen\, politische Rahmenbedingungen und erfolgreiche Beispiele aus der Praxis zu diskutieren. Im Mittelpunkt der Veranstaltung stehen innovative Technologien und gelungene industrielle Anwendungen rund um das Thema Wasser und Wertstoffe.\nZiel der Veranstaltung ist es\, die Zusammenarbeit zwischen ostdeutschen Cleantech Unternehmen und Forschungseinrichtungen zu unterst&uuml\;tzen und damit einen Beitrag f&uuml\;r mehr Wirtschaftswachstum zu leisten. \nUnter der Schirmherrschaft der Parlamentarischen Staatssekret&auml\;rin beim Bundesminister f&uuml\;r Wirtschaft und Energie und Beauftragten der Bundesregierung f&uuml\;r die neuen Bundesl&auml\;nder\, Frau Iris Gleicke\, werden zuk&uuml\;nftige politische Rahmenbedingungen aufgezeigt. Vertreter aus Forschung und Industrie stellen dar\, wie neueste Technologien in den industriellen Prozess integriert werden und wie die Unternehmen davon profitieren k&ouml\;nnen. Die&nbsp\; Teilnehmer erhalten zudem einen &Uuml\;berblick &uuml\;ber M&ouml\;glichkeiten zur Technologie- und Investitionsf&ouml\;rderung durch das Umweltbundesamt und das Bundesministerium f&uuml\;r Wirtschaft und Energie. \nDer CIO-Campus in Kooperation mit dem Fraunhofer IKTS -&nbsp\; Institut f&uuml\;r Keramische Technologien und Systeme schl&auml\;gt eine Br&uuml\;cke zwischen der Forschung und der Industrie\, um die Bedeutung von Wasser und Wertstoffen als Wachstumstreiber zu verdeutlichen. Erfolgreiche Beispiele aus der Praxis beweisen\, dass Ressourceneffizienz nicht mehr nur ein Label\, sondern ein pragmatischer Ansatz zur Senkung der Kosten und der Steigerung der eigenen Wettbewerbsf&auml\;higkeit ist. \nMerken Sie sich schon heute den Termin vor! Nutzen Sie die M&ouml\;glichkeit\, sich mit Vertretern aus Wirtschaft\, Politik und Forschung auszutauschen\, neue Informationen zu gewinnen und strategische Allianzen zu bilden.\nDie Teilnahme an der Veranstaltung ist kostenfrei. Anmeldeschluss f&uuml\;r Teilnehmer ist der 13. Januar 2015. Weitere Informationen finden Sie unter: www.cleantech-ost.de und auf www.ikts.fraunhofer.de.\nVeranstaltungsort Fraunhofer Institut f&uuml\;r Keramische Technologien und Systeme IKTS Michael-Faraday-Stra&szlig\;e 1\, 07629 Hermsdorf\nFragen beantwortet gern:Irena BernsteinCLEANTECH&nbsp\; Initiative Ostdeutschland (CIO)Telefon: 0351 8322 364E-Mail:&nbsp\;&nbsp\; info@cleantech-ost.de
END:VEVENT
END:VCALENDAR
