BEGIN:VCALENDAR
VERSION:2.0
PRODID:-//YourOrganization//EventDownload//DE
CALSCALE:GREGORIAN
METHOD:PUBLISH
BEGIN:VEVENT
UID:69e618eacf67a@leapup.bitshifters.cloud
DTSTAMP:20260420T141538Z
DTSTART:20181128T090000Z
DTEND:20181128T200000Z
SUMMARY:CLEANROOM EXPERTS DAY "Moderne Reinraumtechnik bei Planung und Konstruktion"
DESCRIPTION:Wir laden Sie herzlich zu unserem CLEANROOM EXPERTS DAY im CLEANROOM EXPERIENCE COMPETENCE CENTER in Leipzig ein.\nInformationen und Anmeldung gibt es hier.
LOCATION:ReinraumAkademie\, Rosa-Luxemburg-Str. 12-14\, 04103 Leipzig
END:VEVENT
END:VCALENDAR
