BEGIN:VCALENDAR
VERSION:2.0
PRODID:-//YourOrganization//EventDownload//DE
CALSCALE:GREGORIAN
METHOD:PUBLISH
BEGIN:VEVENT
UID:69e63d0b59549@leapup.bitshifters.cloud
DTSTAMP:20260420T164947Z
DTSTART:20171121T091500Z
DTEND:20171121T200000Z
SUMMARY:CLEANROOM EXPERTS DAY "Optimierung und Qualifizierung von Reinräumen"
DESCRIPTION:Wir laden Sie herzlich ein sich mit Experten rund um das Thema "Reinraum: Qualifizierung\, Wartung\, Instandsetzung" auszutauschen und einen informativen Tag in unserem Cleanroom Experience Competence Center zu genießen. Es erwarten Sie \nVorträge zu den Themen «Effiziente Reinraumwartung»\, «Requalifizierung\, Maßnahmen und Datenauswertung» sowie «Aufbau moderner Monitoringsysteme».\nEs wird besprochen\, welche Boden- und Wandschutzsysteme fu?r die Pharma- und High-Tech-Industrie zum Einsatz kommen. Frank Duvernell referiert über die Anforderungen an das Verhalten von Wartungspersonal und wie die Mitarbeiter qualifiziert und geschult werden können.\n«Anlagenqualifizierung» sowie Empfehlungen zur optimalen Reinraumreinigung runden das Programm ab. 
LOCATION:ReinraumAkademie\, Rosa-Luxemburg-Str. 12-14\, 04103 Leipzig
END:VEVENT
END:VCALENDAR
