BEGIN:VCALENDAR
VERSION:2.0
PRODID:-//YourOrganization//EventDownload//DE
CALSCALE:GREGORIAN
METHOD:PUBLISH
BEGIN:VEVENT
UID:69e62cfcd86fa@leapup.bitshifters.cloud
DTSTAMP:20260420T154116Z
DTSTART:20180606T090000Z
DTEND:20180606T200000Z
SUMMARY:CLEANROOM EXPERTS DAY "Reinraum: Wartung und Instandhaltung"
DESCRIPTION:Wir laden Sie herzlich zu unserem CELANROOM EXPERTS DAY in unser CLEANROOM EXPERIENCE COMPETENCE CENTER in Wangen an der Aare ein.\nInformationen und Anmeldung finden Sie hier.
LOCATION:cleanroom-academy\, Vorstadt 4\, CH-3380 Wangen an der Aare
END:VEVENT
END:VCALENDAR
