BEGIN:VCALENDAR
VERSION:2.0
PRODID:-//YourOrganization//EventDownload//DE
CALSCALE:GREGORIAN
METHOD:PUBLISH
BEGIN:VEVENT
UID:69e687da52d10@leapup.bitshifters.cloud
DTSTAMP:20260420T220858Z
DTSTART:20160309T000000Z
DTEND:20160310T000000Z
SUMMARY:Cleanroom Experts Days "Reinraum Layout\, Planung und Konstruktion" 
DESCRIPTION:Modul Planung: - Haftung beim Reinraumbau: Im Spannungsfeld zwischen Planern und Betreibern - Projektstart: Vom Wunsch zum Lastenheft Modul Planung &amp\; Layout: - Grundlagen der Reinraumtechnik und Planung - Anforderungen und Tipps zur Erstqualifizierung Modul Konstruktion: - Monitoringsysteme optimal in den Reinraum integrieren - Erfahrungsbericht eines Anwenders in der Medizintechnik - Anforderungen an Decken-\, Wand- und Bodensysteme
LOCATION:ReinraumAkademie GmbH\, Rosa-Luxemburg-Str.\, 04103 Leipzig
END:VEVENT
END:VCALENDAR
