BEGIN:VCALENDAR
VERSION:2.0
PRODID:-//YourOrganization//EventDownload//DE
CALSCALE:GREGORIAN
METHOD:PUBLISH
BEGIN:VEVENT
UID:69e63d2b74dc3@leapup.bitshifters.cloud
DTSTAMP:20260420T165019Z
DTSTART:20171205T000000Z
DTEND:20171206T000000Z
SUMMARY:CLEANROOM EXPERTS DAYs "Reinraum + Spital - 1 Thema\, 2 Welten"
DESCRIPTION:Wir laden Sie herzlich zu unseren CLEANROOM EXPERTS DAYS in unser CLEANROOM EXPERIENCE COMPETENCE CENTER in Wangen an der Aare ein.\nInformationen und Anmeldung finden Sie hier.
LOCATION:cleanroom-academy\, Vorstadt 4\, CH-3380 Wangen an der Aare
END:VEVENT
END:VCALENDAR
