BEGIN:VCALENDAR
VERSION:2.0
PRODID:-//YourOrganization//EventDownload//DE
CALSCALE:GREGORIAN
METHOD:PUBLISH
BEGIN:VEVENT
UID:69e65f6e186a7@leapup.bitshifters.cloud
DTSTAMP:20260420T191630Z
DTSTART:20170203T130000Z
DTEND:20170203T173000Z
SUMMARY:CMCB Facility Day
DESCRIPTION:Am 3. Februar 2017 präsentieren sich die 11 Facilities des CRTD\, BIOTEC und B CUBE am CMCB Facility Day. Besucher haben die Möglichkeit\, Facilities zu besichtigen\, mit Experten ins Gespräch zu kommen und Lighthouse Talks zu besuchen. Abgerundet wird die Veranstaltung mit einem Get Together.\n&gt\;&gt\;Programm
LOCATION:Center for Regenerative Therapies Dresden\, Fetscherstr. 105\, 01307 Dresden
END:VEVENT
END:VCALENDAR
