BEGIN:VCALENDAR
VERSION:2.0
PRODID:-//YourOrganization//EventDownload//DE
CALSCALE:GREGORIAN
METHOD:PUBLISH
BEGIN:VEVENT
UID:69e4c84c4ca79@leapup.bitshifters.cloud
DTSTAMP:20260419T141924Z
DTSTART:20240620T150000Z
DTEND:20240620T180000Z
SUMMARY:Community Forum reAIlize
DESCRIPTION:Welche Unternehmens-Idee gewinnt den diesj&auml\;hrigen KI-Ideenwettbewerb des Fraunhofer IIS/EAS? Wie viel wirtschaftliches Potential steckt &uuml\;berhaupt tats&auml\;chlich hinter K&uuml\;nstlicher Intelligenz? Und wie kann sie auch von KMU gewinnbringend eingesetzt werden?\nDas&nbsp\;Community Forum reAIlize 2024&nbsp\;bietet in Kurzimpulsen und einem Podiumsgespr&auml\;ch einen &Uuml\;berblick zu den zahlreichen Facetten von KI in s&auml\;chsischen Anwendungen. Dar&uuml\;ber hinaus pr&auml\;sentieren sich die spannendsten Einreichungen aus dem Wettbewerb &raquo\;reAIlize&nbsp\;&minus\; Wir erwecken Ihre KI-Idee zum Leben&laquo\;. Und eine Jury aus acht Vertretern s&auml\;chsischer Unternehmensnetzwerke k&uuml\;rt die Gewinner-Einreichung.\nSeien auch Sie dabei\, kommen Sie in den Austausch mit Vorreitern\, Experten\, Praktikern sowie Forschern und starten Sie mit KI in Ihrem Unternehmen durch. In weiteren Veranstaltungsformaten k&ouml\;nnen Sie dar&uuml\;ber hinaus in den n&auml\;chsten Monaten den Fortschritt der Umsetzung des Gewinner-Usecases verfolgen.\nProgramm-Highlights:\n\nKurzimpulse aus der angewandten KI-Forschung\nPodiumsgespr&auml\;ch mit Vertretern s&auml\;chsischer Unternehmensnetzwerke\nKurzpitches der Shortlist-Einreichungen\, die von Unternehmen als KI-Usecase-Ideen beim &raquo\;reAIlize&laquo\;-Wettbewerb eingereicht wurden\nIdeengalerie weiterer Bewerber im &raquo\;reAIlize&laquo\;-Wettbewerb\nDemonstratoren und Infost&auml\;nde\nVernetzung mit Fachleuten\, Unternehmensvertretern und Verbandsvertretern\n\nMEHR
LOCATION:Fraunhofer IIS/EAS\, Münchner Straße 16\, 01187 Dresden
END:VEVENT
END:VCALENDAR
