BEGIN:VCALENDAR
VERSION:2.0
PRODID:-//YourOrganization//EventDownload//DE
CALSCALE:GREGORIAN
METHOD:PUBLISH
BEGIN:VEVENT
UID:69e520060c7bf@leapup.bitshifters.cloud
DTSTAMP:20260419T203342Z
DTSTART:20241128T140000Z
DTEND:20241128T170000Z
SUMMARY:Connecting Health: Best Practices für das vernetzte Krankenhaus
DESCRIPTION:Das vernetzte Krankenhaus\, oft als &ldquo\;Smart Hospital&rdquo\; bezeichnet\, ist ein zentraler Baustein der fortschreitenden Digitalisierung des Gesundheitswesens. Durch den Einsatz modernster Technologien wie K&uuml\;nstlicher Intelligenz\, digitaler Patientenakten\, Wearables oder vernetzter Medizinger&auml\;te wird die Patientenversorgung verbessert. Diese Innovationen erm&ouml\;glichen nicht nur eine effizientere und pr&auml\;zisere Behandlung\, sondern entlasten auch das medizinische Personal und verbessern die Arbeitsabl&auml\;ufe in den Kliniken.\nIn unserer Online-Veranstaltung geben unsere Experten einen &Uuml\;berblick &uuml\;ber die M&ouml\;glichkeiten und Herausforderungen des vernetzten Krankenhauses. Zudem er&ouml\;rtern wir\, wie eine sichere und konforme Vernetzung des Krankenhauses gelingen kann. Wir freuen uns auf einen inspirierenden Austausch und spannende Diskussionen.&nbsp\;&nbsp\;\nWeitere Informationen
LOCATION:MS Teams\, Offenbach
END:VEVENT
END:VCALENDAR
