BEGIN:VCALENDAR
VERSION:2.0
PRODID:-//YourOrganization//EventDownload//DE
CALSCALE:GREGORIAN
METHOD:PUBLISH
BEGIN:VEVENT
UID:69e5cd711aeda@leapup.bitshifters.cloud
DTSTAMP:20260420T085337Z
DTSTART:20210121T100000Z
DTEND:20210121T113000Z
SUMMARY:Corona-Hilfsprogramme effektiv nutzen – Fallstricke vermeiden 
DESCRIPTION:\n\n\n\neureos-Online-Seminar (branchen&uuml\;bergreifend):Corona-Hilfsprogramme effektiv nutzen &ndash\; Fallstricke vermeiden\nProgramm\nWelches Hilfsprogramm kommt f&uuml\;r mein Unternehmen infrage? &bull\; KfW-Schnellkredit 2020 &bull\; &Uuml\;berbr&uuml\;ckungshilfe II &bull\; &Uuml\;berbr&uuml\;ckungshilfe III &bull\; Corona-November- und Dezemberhilfen Das Wichtigste im &Uuml\;berblick &bull\; Wer ist anspruchsberechtigt?&bull\; Wie muss die Beantragung erfolgen?&bull\; Welche Unterlagen werden ben&ouml\;tigt?&bull\; Wie wird der Zuschuss berechnet?&bull\; Was ist beihilferechtlich zu beachten? Was sind die Folgen des Inkrafttretens der &bdquo\;Bundesregelung Fixkostenhilfe 2020&ldquo\;?Unsere Praxistipps zur Beantragung der Hilfsprogramme &bull\; Typische Fallstricke bei der Beantragung&bull\; Erfahrungen mit der Antragsplattform&bull\; &bdquo\;Typische&ldquo\; Timelines&bull\; Checklisten zum Antragsverfahren Ihr Referent: Uwe Gey\, Partner\, Diplom-Kaufmanneureos corporate finance gmbh\n\n\n\n\n\n\n\n\n\n\n\nDie Teilnahme am Online-Seminar ist f&uuml\;r Sie kostenfrei.\nWeitere Informationen und zur Anmeldung\n\n\n\n\n\n\n\n\n\n\n\n\n\n\n
END:VEVENT
END:VCALENDAR
