BEGIN:VCALENDAR
VERSION:2.0
PRODID:-//YourOrganization//EventDownload//DE
CALSCALE:GREGORIAN
METHOD:PUBLISH
BEGIN:VEVENT
UID:69e5099cc1457@leapup.bitshifters.cloud
DTSTAMP:20260419T185804Z
DTSTART:20251127T130000Z
DTEND:20251127T150000Z
SUMMARY:Crash-Kurs MDR/IVDR
DESCRIPTION:\n\nInhalt: \n\n\n\n\nDie Verordnung und die Grundprinzipien \n\n\n\n\n\n\nWirtschaftsakteure \n\n\n\n\n\n\nAnhang I: Allgemeine Sicherheits- und Leistungsanforderungen - Auswahl von harmonisierten Normen \n\n\n\n\n\n\nQualitätsmanagementsystem \n\n\n\n\n\n\nAnhang II/III: Anforderungen an Inhalt und Umfang der technischen Dokumentation \n\n\n\n\n\n\nKlinische Bewertung \n\n\n\n\n\n\nPost-Market Surveillance (PMS) \n\n\n\n\n\n\nMedizinprodukteverordnung und Meldepflichten\; Kennzeichnung\, Rückverfolgbarkeit (UDI\, EUDAMED) \n\n\n\n\n\n\nSprecher: Dr. Katja Krempler \nKosten: 50€ Mitglieder\, 100€ Nicht-Mitglieder\n\n
END:VEVENT
END:VCALENDAR
