BEGIN:VCALENDAR
VERSION:2.0
PRODID:-//YourOrganization//EventDownload//DE
CALSCALE:GREGORIAN
METHOD:PUBLISH
BEGIN:VEVENT
UID:69e52380c6eac@leapup.bitshifters.cloud
DTSTAMP:20260419T204832Z
DTSTART:20241008T140000Z
DTEND:20241008T160000Z
SUMMARY:Cybersecurity im Gesundheitswesen: Anforderungen für Medizinprodukte-Hersteller und Kliniken als Teil der kritischen Infrastruktur
DESCRIPTION:Die Digitalisierung im Gesundheitswesen bietet ein enormes Potenzial. Leider h&auml\;ufen sich aber auch die Meldungen &uuml\;ber Cybersicherheitsvorf&auml\;lle in Kliniken. Damit r&uuml\;cken diese medizinischen Einrichtungen als kritische Infrastruktur in den Fokus.\nDurch die EU-Richtlinie NIS-2 zur Cybersicherheit ergeben sich auch neue Herausforderungen f&uuml\;r die Hersteller von vernetzten Medizinprodukten. Gegenw&auml\;rtig befindet sich NIS-2 in der nationalen Umsetzung und seit Mai 2024 liegt ein deutscher Gesetzesentwurf vor.\nKatharina Klenk-Wernitzki\, Elisabeth Kohoutek und Christian Ku&szlig\; (Luther Rechtsanwaltsgesellschaft mbH) werden in unserer Veranstaltung zun&auml\;chst auf die Versorgung mit Medizinprodukten als Teil der kritischen Infrastruktur und die Cybersicherheit in der Klinik eingehen. Im Zuge dessen stellen die Referierenden auch Best Practices aus ihrer beruflichen Praxis vor.\nAngesichts des CrowdStrike-Vorfalls ergeben sich viele offene Fragen in Bezug auf die Haftung sowie die Eingrenzung der Schadensf&auml\;lle. Im zweiten Vortrag gehen unsere Referierende auf dieses Thema ein und berichten\, wie eine Checkliste f&uuml\;r die Vertragsgestaltung hier hilfreich sein kann.\nWir freuen uns auf wertvolle Einblicke in dieses wichtige Thema und spannende Diskussionen mit Ihnen.\nZur Anmeldung
END:VEVENT
END:VCALENDAR
