BEGIN:VCALENDAR
VERSION:2.0
PRODID:-//YourOrganization//EventDownload//DE
CALSCALE:GREGORIAN
METHOD:PUBLISH
BEGIN:VEVENT
UID:69e573fa77247@leapup.bitshifters.cloud
DTSTAMP:20260420T023154Z
DTSTART:20221214T093000Z
DTEND:20221214T120000Z
SUMMARY:Das neue Lieferkettensorgfaltspflichtengesetz – Wesentliche Anforderungen für die Praxis
DESCRIPTION:Das Lieferkettensorgfaltspflichtengesetz (LkSG) gilt f&uuml\;r die ersten Unternehmen ab 1. Januar 2023. Aber auch (noch) nicht von dem Gesetz direkt betroffene Unternehmen werden sich auf sehr konkrete Anfragen und Anforderungen ihrer gr&ouml\;&szlig\;eren Kunden einstellen m&uuml\;ssen. In einem 2\,5h dauernden Webinar stellt Ihnen Herr Dr. Thomas Uhlig\, Rechtsanwalt und Partner bei KPMG Law\, die Hintergr&uuml\;nde des LkSG\, die wichtigsten rechtlichen Anforderungen\, die Auswirkungen auf die Unternehmenspraxis und Umsetzungstipps vor. Au&szlig\;erdem wird gen&uuml\;gend Zeit f&uuml\;r Fragen der Teilnehmer/innen bestehen.\nDie Veranstaltung ist kostenfrei.\nZur Anmeldung \nDen Einwahl-Link erhalten Sie einen Tag vor der Veranstaltung.\n&nbsp\;\n&nbsp\;
END:VEVENT
END:VCALENDAR
