BEGIN:VCALENDAR
VERSION:2.0
PRODID:-//YourOrganization//EventDownload//DE
CALSCALE:GREGORIAN
METHOD:PUBLISH
BEGIN:VEVENT
UID:69e55afb9acce@leapup.bitshifters.cloud
DTSTAMP:20260420T004515Z
DTSTART:20230911T090000Z
DTEND:20230914T123000Z
SUMMARY:Datenbasierte Entscheidungsfindung: Grundlagen Explorativer Datenanalyse
DESCRIPTION:(Bio-)chemische Verfahren unterliegen komplexen elektronischen Steuerungen\, die hergestellten Produkte werden umfassend analysiert. Die dazugeh&ouml\;rigen Daten liegen zwar vor\, werden aber nicht optimal verwertet. Dieses Seminar vermittelt moderne Datenanalyse und bef&auml\;higt Sie\, die verborgenen Informationssch&auml\;tze zu heben und anhand Ihrer Daten bessere Entscheidungen zu treffen. Nutzen Sie aktuelle Analysetechniken ohne Programmierung oder statistische Vorkenntnisse. Lernen Sie\, schneller schlau zu werden.\nJetzt anmelden!
END:VEVENT
END:VCALENDAR
