BEGIN:VCALENDAR
VERSION:2.0
PRODID:-//YourOrganization//EventDownload//DE
CALSCALE:GREGORIAN
METHOD:PUBLISH
BEGIN:VEVENT
UID:69e6d657083d6@leapup.bitshifters.cloud
DTSTAMP:20260421T034351Z
DTSTART:20140409T000000Z
DTEND:20140410T000000Z
SUMMARY:Deutsche Biotechnologietage 2014
DESCRIPTION:Die Biotechnologietage 2014 finden am 09. und 10. April in Hamburg statt und werden in gemeinsamer Verantwortung von BIO Deutschland\, der Life Science Nord und dem Arbeitskreis der BioRegionen mit Unterst&uuml\;tzung des BMBF durchgef&uuml\;hrt.\nDie Deutschen Biotechnologietage sind das j&auml\;hrliche Netzwerk-Event der deutschen Biotechnologiebranche.\nDer Arbeitskreis der Bioregionen in der BIO Deutschland e. V. f&uuml\;hrt seit 2010 mit dieser Veranstaltung die ehemals unter dem Titel &bdquo\;BMBF-Biotechnologietage&ldquo\; bekannte Netzwerk-Veranstaltung fort und l&auml\;dt Biotech-Unternehmen sowie Partner aus Politik\, Forschung und Verwaltung dazu ein.
END:VEVENT
END:VCALENDAR
