BEGIN:VCALENDAR
VERSION:2.0
PRODID:-//YourOrganization//EventDownload//DE
CALSCALE:GREGORIAN
METHOD:PUBLISH
BEGIN:VEVENT
UID:69e52f3827918@leapup.bitshifters.cloud
DTSTAMP:20260419T213832Z
DTSTART:20240416T000000Z
DTEND:20240417T000000Z
SUMMARY:Deutsche Biotechnologietage 2024
DESCRIPTION:Die DBT sind das Forum der deutschen Biotechnologie-Branche. Eingeladen sind alle Interessierten\, die die Entwicklung der deutschen Biotechnologie mitgestalten\, &uuml\;ber wichtige Themen diskutieren und Kontakte kn&uuml\;pfen und pflegen wollen. Die Deutschen Biotechnologietage werden von BIO Deutschland und dem Arbeitskreis der deutschen BioRegionen ausgerichtet.\nJetzt anmelden!
LOCATION:bcc Berlin Congress Center GmbH\, Alexanderstraße 11\, 10178 Berlin
END:VEVENT
END:VCALENDAR
