BEGIN:VCALENDAR
VERSION:2.0
PRODID:-//YourOrganization//EventDownload//DE
CALSCALE:GREGORIAN
METHOD:PUBLISH
BEGIN:VEVENT
UID:69e54b7e64fab@leapup.bitshifters.cloud
DTSTAMP:20260419T233910Z
DTSTART:20230913T093000Z
DTEND:20230913T170000Z
SUMMARY:Digital Health Day
DESCRIPTION:Erleben Sie freie Gestaltungsm&ouml\;glichkeiten in der Agenda\, angeregte Diskussionsrunden\, Workshops\, Pitches und informative Vortr&auml\;ge aus unterschiedlichen Bereichen. \nNicht nur dar&uuml\;ber reden\, auch selbst aktiv werden. Dieses Zeichen setzen wir mit Dr. med. Tobias Gantner von der HealthCare Futurists GmbH. Vor Ort werden Ihnen die neuesten Technologien aus den Bereichen Telemedizin\, K&uuml\;nstliche Intelligenz sowie Virtual Reality zum Anfassen und Ausprobieren vorgestellt. \n&nbsp\;\nSichern Sie sich jetzt unseren Fr&uuml\;hbucherpreis und ein Ticket f&uuml\;r einen ganz besonderen Tag im Herzen von Leipzig. Gemeinsam mit unserem Moderator Frank Stratmann\, freuen wir uns auf einen spannenden Tag im Sinne der Digitalisierung im Gesundheitswesen. \n&nbsp\;\nJetzt anmelden!
LOCATION:SimpliOffice Leipzig \, Markgrafenstraße 2 \, 04109 Leipzig
END:VEVENT
END:VCALENDAR
