BEGIN:VCALENDAR
VERSION:2.0
PRODID:-//YourOrganization//EventDownload//DE
CALSCALE:GREGORIAN
METHOD:PUBLISH
BEGIN:VEVENT
UID:69e566134b65e@leapup.bitshifters.cloud
DTSTAMP:20260420T013235Z
DTSTART:20221206T084500Z
DTEND:20221207T173000Z
SUMMARY:Digital Networking Days - Robotik im Labor (online)
DESCRIPTION:Die digital networking days sind die digitale Veranstaltungsreihe von INDUSTRIAL Production\, KUNSTSTOFF MAGAZIN\, materialfluss\, LABO und Baugewerbe rund um aktuelle Themen und Entwicklungen. Vom 06. bis 07. Dezember 2022 widmen sie sich mit praxisnahen Vortr&auml\;gen\, Best-Practice-Beispielen und Workshops dem Thema &bdquo\;Robotik&ldquo\;.\nProgramm und Anmeldung
END:VEVENT
END:VCALENDAR
