BEGIN:VCALENDAR
VERSION:2.0
PRODID:-//YourOrganization//EventDownload//DE
CALSCALE:GREGORIAN
METHOD:PUBLISH
BEGIN:VEVENT
UID:69e5912e5ce19@leapup.bitshifters.cloud
DTSTAMP:20260420T043630Z
DTSTART:20220119T160000Z
DTEND:20220119T180000Z
SUMMARY:Digitaler Neujahrsempfang 2022 von biosaxony
DESCRIPTION:Wir laden Sie herzlich zum zweiten digitalen biosaxony Neujahrsempfang am 19. Januar 2022 ein. Gemeinsam mit Ihnen m&ouml\;chten wir auf die Ereignisse des vergangenen Jahres zur&uuml\;ckblicken und die anstehenden Vorhaben in diesem Jahr beleuchten.\nProgrammpunkte\n\nBegr&uuml\;&szlig\;ung\, Dr. Oliver Uecke\, Vorstandsvorsitzender biosaxony e.V.\nKeynote: 2022 - Gro&szlig\;e Spr&uuml\;nge in der medizinischen Innovation\n\nHerr Laguna de la Vera - Gr&uuml\;ndungsdirektor Bundesagentur f&uuml\;r Sprunginnovationen\nProf. Dr. Thomas Neumuth - Innovation Center Computer Assisted Surgery (ICCAS)\n\n\nVorstellung der Neumitglieder 2021 im biosaxony e.V.\n\n\n\n\n\nBuilding 3D e.V.\n\n\nCallPima UG\n\n\nDKMS Life Science Lab GmbH\n\n\nDKMS Stem Cell Bank gGbmH\n\n\nEpitopic GmbH\n\n\nFraunhofer-Institut f&uuml\;r Organische Elektronik\n\n\nFraunhofer-Zentrum f&uuml\;r Internationales Management\n\n\nICterra Information und Kommunikation Technologien GmbH\n\n\nInstitut f&uuml\;r Angewandte Informatik e.V.\n\n\nLaurandum UG\n\n\nLuther Rechtsanwaltsgesellschaft mbH\n\n\nMedidee Services (Deutschland) GmbH\n\n\nMedimode GmbH\n\n\nmemoresa GmbH\n\n\nPeriCo Solutions GmbH\n\n\nSchaumaplast Sachsen GmbH\n\n\nTediro GmbH\n\n\nVascuScience GmbH\n\n\nWhite IP Group\n\n\n\n\n\n\nAusblick 2022\, Andr&eacute\; Hofmann\, Gesch&auml\;ftsf&uuml\;hrer biosaxony Management GmbH\n\nTermin: 19. Januar 2022 // ab 16:00 UhrOrt: online\nBitte nutzen Sie zur Anmeldung die hier verlinkte Online-Registrierung.\nAnmeldefrist: 18. Januar 2022\nVeranstaltungs-AGB des biosaxony e. V.
END:VEVENT
END:VCALENDAR
