BEGIN:VCALENDAR
VERSION:2.0
PRODID:-//YourOrganization//EventDownload//DE
CALSCALE:GREGORIAN
METHOD:PUBLISH
BEGIN:VEVENT
UID:69e5c9e4d99e6@leapup.bitshifters.cloud
DTSTAMP:20260420T083828Z
DTSTART:20201014T000000Z
DTEND:20201016T000000Z
SUMMARY:Digitales Partnering BioJapan 2020
DESCRIPTION:Die BioJapan ist eine der zentralen Messen der Life Science-Branche in Asien und wird insbesondere von den wichtigsten Vertretern der japanischen Pharma- und Biotechnologieindustrie besucht.\nAufgrund der aktuellen Situation und der noch unbest&auml\;tigten Einreisebestimmungen zum Zeitpunkt der Messe\, soll in diesem Jahr das Partnering erstmals auch digital angeboten werden. Sobald mindestens einer der beiden Teilnehmenden nicht vor Ort ist\, findet das Gespr&auml\;ch direkt als Videokonferenz statt.\nGTAI erm&ouml\;glicht Biotechnologieunternehmen die kostenfreie Teilnahme am digitalen Partnering der BioJapan.\nMehr zu den Teilnahmebedingungen und den Link zur Anmeldung finden Sie unter www.gtai.de/digitales-partnering-biojapan\nDie Zahl der verf&uuml\;gbaren Tickets ist begrenzt. Mit dieser F&ouml\;rderma&szlig\;nahme der GTAI sollen insbesondere Unternehmen aus den GRW-F&ouml\;rdergebieten und den vom Braunkohleausstieg betroffenen Regionen die M&ouml\;glichkeit erhalten\, ihre Kontakte und Netzwerke in Japans Life-Science-Branche auszubauen. Nach erfolgreicher Anmeldung erhalten die Teilnehmer einen kostenfreien Zugang zum digitalen Partnering der BioJapan zur individuellen Nutzung.\nAusgew&auml\;hlte Berichte zum japanischen Gesundheitsmarkt\n\nThemenspecial &bdquo\;Aktuelles aus Japans Gesundheitsmarkt&ldquo\;\nWebinaraufzeichnung &bdquo\;Japans Markt f&uuml\;r Arzneimittel und Medizinische Biotechnologie&ldquo\;\nMarktstudie &ndash\; Gesundheitsmarkt Japan: Arzneimittel und Biopharmazeutika\nTrend zu Aufk&auml\;ufen und Kooperationen h&auml\;lt in Japans Pharmabranche an\nBranche kompakt: Japans Pharmamarkt weist kaum noch Wachstumspotenzial auf\nBranchencheck Japan: Coronakrise hinterl&auml\;sst 2020 tiefe Spuren\n\nDie Expertinnen und Experten von GTAI berichten regelm&auml\;&szlig\;ig und umfassend zum japanischen Markt. Die Informationen sind kostenfrei auf der Webseite von GTAI bzw. der Exportinitiative Gesundheitswirtschaft abrufbar. Nachfolgend eine Auswahl:\nWeitere Information finden Sie unter www.gtai.de/japan. 
END:VEVENT
END:VCALENDAR
