BEGIN:VCALENDAR
VERSION:2.0
PRODID:-//YourOrganization//EventDownload//DE
CALSCALE:GREGORIAN
METHOD:PUBLISH
BEGIN:VEVENT
UID:69e56ac3f3df2@leapup.bitshifters.cloud
DTSTAMP:20260420T015235Z
DTSTART:20230315T083000Z
DTEND:20230316T193000Z
SUMMARY:Digitalhealth.Pro - Messe für digitale Gesundheitswirtschaft
DESCRIPTION:Gute Gr&uuml\;nde f&uuml\;r Ihre Teilnahme:\n&gt\; 3.000 Besucher*innen aus Politik\, Wirtschaft\, Wissenschaft &amp\; Medien\nInnovatives Konferenzformat: Keynote I Kontrovers I Konstruktiv\n&gt\; 100 Aussteller*innen &amp\; Partner*innen\nAlleinstellungsmerkmal: Der branchen- &amp\; sektoren&uuml\;bergreifende Ansatz\n&nbsp\;\nHier erfahren Sie mehr
END:VEVENT
END:VCALENDAR
