BEGIN:VCALENDAR
VERSION:2.0
PRODID:-//YourOrganization//EventDownload//DE
CALSCALE:GREGORIAN
METHOD:PUBLISH
BEGIN:VEVENT
UID:69e8b48e57406@leapup.bitshifters.cloud
DTSTAMP:20260422T134414Z
DTSTART:20181127T083000Z
DTEND:20181127T170000Z
SUMMARY:digitalLIFE4CE-Workshop "Digitalization in Health Prevention & Promotion"
DESCRIPTION:Ziel des Workshop ist es\, sich der Fragestellung zu nähern\, wie man mit digitalen Gesundheitsservices und -produkten im Bereich Prävention und Gesundheitsförderung die Menschen dafür begeistern kann\, die sich bislang noch nicht dafür interessieren.\nIn einem Kreise eines internationalen Experten-Teams haben Sie die Möglichkeit\, diese Fragestellung gemeinsam zu bearbeiten und zur Verbesserung der Gesundheitssysteme in Zentraleuropa beizutragen.\nDie Workshop-Ergebnisse stehen allen Teilnehmern zur Verwendung frei und werden im Rahmen des Projektes weitergenutzt.\nZielgruppe: Psychologen\, Marketing-Experten\, Business Developer\, ITler\, eHealth-Unternehmen\, interessierte Experten aus der Gesundheitswirtschaft\nVoraussetzung: fließendes Englisch in Wort und Schrift\nDer Workshop ist kostenfrei.\nEine Anmeldung ist unter diesem Link möglich.
LOCATION:BIO CITY LEIPZIG\, Konferenzbereich\, Deutscher Platz 5\, 04103 Leipzig
END:VEVENT
END:VCALENDAR
