BEGIN:VCALENDAR
VERSION:2.0
PRODID:-//YourOrganization//EventDownload//DE
CALSCALE:GREGORIAN
METHOD:PUBLISH
BEGIN:VEVENT
UID:69e8c6b110ddd@leapup.bitshifters.cloud
DTSTAMP:20260422T150137Z
DTSTART:20190207T090000Z
DTEND:20190207T130000Z
SUMMARY:DIN EN 61010-1: Einführung in die Norm für elektrische Mess-\, Steuer-\, Regel- und Laborgeräte
DESCRIPTION:\nDie Basisnorm DIN EN 61010-1 formuliert die Sicherheitsanforderungen an elektrische Labor- und Meßgeräte und deren Zubehör\, um physikalische Gefährdungen durch elektrische\, elektromagnetische\, thermische\, chemische und Strahlungsenergie zu beherrschen sowie Anforderungen an Bauteile und Materialien zu definieren. Ebenso werden die Bewertung verbleibender Restrisiken und Testbedingungen beschrieben.\nIm Fachvortrag lernen Sie Inhalte dieser Norm kennen und anzuwenden.\nINHALT:\n\nPrüfbedingungen\nEinzelfehler\nIsolierungen (Basis-\, zusätzliche\, doppelte\, verstärkte) als Schutz gegen elektrischen Schlag\; unterschiedliche Konditionen der Punkte 6.7 und Anhang K\; Parameter zur Bestimmung von Isolationsabständen\nFestigkeit gegen Entzündung\nMechanische Festigkeit\nAnforderungen an eine Risikobewertung nach Pkt. 17\nNachweis der Eignung sicherheitsrelevanter Bauteile durch Zertifikate\n\nPREIS:\nbiosaxony-Mitglieder erhalten einen Rabatt von 4%.\nBIOSAXONY Mitglieder: 274 € (netto) NICHT-Mitglieder: 285 € (netto)\nBitte nutzen Sie für Ihre Anmeldung unsere hier verlinkte online Registrierung.\n
LOCATION:SLG Akademie GmbH\, Burgstädter Straße 20\, 09232 Hartmannsdorf
END:VEVENT
END:VCALENDAR
