BEGIN:VCALENDAR
VERSION:2.0
PRODID:-//YourOrganization//EventDownload//DE
CALSCALE:GREGORIAN
METHOD:PUBLISH
BEGIN:VEVENT
UID:69e4e2ac8ce79@leapup.bitshifters.cloud
DTSTAMP:20260419T161156Z
DTSTART:20250317T090000Z
DTEND:20250320T163000Z
SUMMARY:DIN EN ISO 13485 – QM für Medizinprodukte in der Kunststoffindustrie
DESCRIPTION:In diesem Lehrgang eignen Sie sich umfangreiches Wissen zu einem Managementsystem nach DIN EN ISO 13485 an. Sie sind auf dem aktuellen Stand der nationalen und europ&auml\;ischen Gesetzgebung. Sie lernen die zus&auml\;tzlichen Anforderungen von DIN EN ISO 13485 gegen&uuml\;ber DIN EN ISO 9001 kennen. Diese beziehen sich insbesondere auf die Dokumentation\, die Entwicklung und Beobachtung von Medizinprodukten sowie R&uuml\;ckverfolgbarkeit und Validierung von Prozessen in der Kunststoffindustrie. Au&szlig\;erdem befassen Sie sich mit den grundlegenden Anforderungen an das Risikomanagement. Mithilfe von Praxisbeispielen aus der Kunststoffindustrie und Gruppenarbeiten eignen Sie sich die wichtigsten Kenntnisse zur Norm an und verstehen die einzelnen allgemeinen und gesetzlichen Anforderungen. Sie sind in der Lage\, die gesetzlichen Anforderungen in Ihrem Unternehmen umzusetzen. Nach diesem Lehrgang sind Sie bereit\, ein Managementsystem nach ISO 13485 in der Kunststoffindustrie einzuf&uuml\;hren\, aufrechtzuerhalten und zu verbessern.Inhalt:\n\nMedizinproduktegesetz\nEurop&auml\;ische Richtlinien und Medical Device Regulation\nInverkehrbringen von Medizinprodukten\nAnforderungen nach DIN EN ISO 13485\nVerbindung zu DIN EN ISO 9001\nUmsetzung der geforderten Dokumentation\nGrundlagen Risikomanagement\nPraktische Beispiele aus der Kunststoffindustrie\, Erfahrungsberichte\n\nPraxis:\n\nDokumentationsanforderungen in der Praxis\nArbeitsumgebung: Wartung und Pflege von Maschinen\nArbeitsumgebung: Reinigung von Maschinen\nBiokompatibilit&auml\;t von Reinigungsmitteln und Schmierstoffen\nQualifizierung von Produktionsanlagen\nValidierung von Produktionsprozessen\nChange-/Risiko-Management in der Praxis\n\nF&uuml\;r weitere Informationen zur Veranstaltung hier klicken.
LOCATION:SKZ – Das Kunststoff-Zentrum\, Friedrich-Bergius-Ring 21\, 97076 Würzburg
END:VEVENT
END:VCALENDAR
