BEGIN:VCALENDAR
VERSION:2.0
PRODID:-//YourOrganization//EventDownload//DE
CALSCALE:GREGORIAN
METHOD:PUBLISH
BEGIN:VEVENT
UID:69e88f85aaca3@leapup.bitshifters.cloud
DTSTAMP:20260422T110613Z
DTSTART:20200201T103000Z
DTEND:20200201T160000Z
SUMMARY:DIU LIVE 2020
DESCRIPTION:Lernen Sie uns vor Ort kennen zum großen Tag der offenen Tür! Bekommen Sie Einblicke in unsere vielfältigen Studiengänge an der DIU und nehmen Sie erste Erfahrungswerte mit.\nWährend des gesamten DIU LIVE-Tages stehen die Studiengangsmanager/-innen für Beratungsgespräche rund um das Studium und die Dresden International University zur Verfügung.\nDas DIU LIVE-Programm (2020)\nMeetingPointab 10.30 UhrEmpfang der Gäste\n11.00 UhrBegrüßung der Gäste durch Dr. Ulrich Bremer (Geschäftsführer der DIU)\nHörsaal11.10 UhrAkademische Weiterbildung in Zeiten des Fachkräftemangels – Karrieresprungbrett oder Überqualifizierung?Prof. Dr. Jörg Klukas\, Geschäftsführer pludoni GmbH Podiumsgäste aus Wirtschaft und WissenschaftModeration: Dr. Ulrich Bremer\, Geschäftsführer DIU\nHörsaal12.00 UhrWie finanziere ich mein privates Studium? Möglichkeiten\, Wege etc. – Stefan Erbe (Studienorganisation DIU)\nMeetingPoint12.15 UhrPause mit kleinem Snack und Getränken\nInteresse am 01. Februar zu studieren?\nStudium-LIVEab ca. 13.00 Uhr\n 
LOCATION:Dresden International University\, Freiberger Str. 37\, 01067 Dresden
END:VEVENT
END:VCALENDAR
