BEGIN:VCALENDAR
VERSION:2.0
PRODID:-//YourOrganization//EventDownload//DE
CALSCALE:GREGORIAN
METHOD:PUBLISH
BEGIN:VEVENT
UID:69e63ce308436@leapup.bitshifters.cloud
DTSTAMP:20260420T164907Z
DTSTART:20180127T103000Z
DTEND:20180127T140000Z
SUMMARY:DIU LIVE - Tag der offenen Tür
DESCRIPTION:Am 27. Januar 2018 besteht wieder die Gelegenheit\, die Studienangebote und den Campus der Dresden International University kennenzulernen. Ab 10.30 Uhr bis 14:00 Uhr öffnet die staatlich anerkannte Weiterbildungsuniversität der TU Dresden ihre Türen und freut sich auf die zahlreichen Fragen der Gäste.\nInteressierte hören einen Vortrag zur Philosophie und den Studienangeboten der DIU sowie zwei Vorträge zur Studienfinanzierung. Im Anschluss stellen die Projektmanager in den parallel laufenden Veranstaltungen die einzelnen Studiengänge der fünf Kompetenzzentren vor und geben Einblick in den Ablauf und die Inhalte.\n\nKompetenzzentrum „Gesundheitswissenschaften und Medizin\nKompetenzzentrum „Logistik und Unternehmensführung“\nKompetenzzentrum „Rechtswissenschaften im interdisziplinären Kontext“\nKompetenzzentrum „Kultur- und Sozialwissenschaften“\nKompetenzzentrum „Natur- und Ingenieurwissenschaften“\n\nDie Weiterbildungsuniversität der TU Dresden\, die Dresden International University\, bietet Berufstätigen sowie Schülern ein berufsbegleitend oder parallel zur Ausbildung stattfindendes Studium in einem der 40 Bachelor- und Masterstudiengänge. Zertifikatskurse\, Symposien\, Seminare und Sprachangebote runden das Profil ab.
LOCATION:Dresden International University\, Freiberger Straße 37\, 01067 Dresden
END:VEVENT
END:VCALENDAR
