BEGIN:VCALENDAR
VERSION:2.0
PRODID:-//YourOrganization//EventDownload//DE
CALSCALE:GREGORIAN
METHOD:PUBLISH
BEGIN:VEVENT
UID:69e69fa7a3711@leapup.bitshifters.cloud
DTSTAMP:20260420T235031Z
DTSTART:20150912T103000Z
DTEND:20150912T150000Z
SUMMARY:DIU LIVE - Tag der offenen Tür am 12. September 2015
DESCRIPTION:\nAm 12. September 2015 besteht in diesem Jahr letztmalig die Gelegenheit\, die Studienangebote und den Campus geb&uuml\;ndelt kennen zu lernen. Ab 10.30 Uhr &ouml\;ffnet die staatlich anerkannte Weiterbildungsuniversit&auml\;t der TU Dresden ihre T&uuml\;ren und freut sich auf die zahlreichen Fragen der G&auml\;ste. Das Programm des dritten "Tag der offenen T&uuml\;r" im Jahr 2015 ist wieder vielseitig.\nAn der DIU gibt es f&uuml\;nf Kompetenzzentren mit sehr vielseitigen und differenten Studienangeboten\, die an dem Tag durch Dozenten\, Absolventen und die Projektmanager vorgestellt werden. Finanzierungs- und F&ouml\;rderm&ouml\;glichkeiten des Freistaats Sachsen\, des Bundes und einzelnen Finanzinstitute werden pr&auml\;sentiert\, &uuml\;ber ausbildungsintegrierte / duale Bachlorprogramme informiert und neue Studieng&auml\;nge\, die f&uuml\;r 2016 geplant sind.\nDie Weiterbildungsuniversit&auml\;t der TU Dresden\, die Dresden International University\, bietet Berufst&auml\;tigen sowie Sch&uuml\;lern mit dem Interesse an einem ausbildungsintegrierten Studiengang\, ein Portfolio aus 38 Bachelor- und Masterprogrammen. Zertifikatskurse\, Symposien\, Seminare und Sprachangebote runden das Profil ab.\nAm 12. September 2015 startet der "Tag der offenen T&uuml\;r" ab 10.30 Uhr. Neben dem Programm k&ouml\;nnen sich die G&auml\;ste in Schnuppervorlesungen und Info-Veranstaltungen informieren\, Fragen stellen und Materialien mitnehmen. Das Angebot reicht dabei von gesundheitswissenschaftlichen Studieng&auml\;ngen\, &uuml\;ber Kultur- und Sozialwissenschaften\, die Naturwissenschaften\, Rechtswissenschaften bis hin zur Managementlehre.\n\n\nBeginn: 10.30 UhrEnde: gegen 15.00 UhrVeranstaltungsort: Dresden International University (DIU)\, Freiberger Stra&szlig\;e 37\, 01067 Dresden\n&gt\;&gt\; Programm\nWir freuen uns auf Ihr Kommen! Anmeldungen bitte an: anja.vogler@di-uni.de\n
END:VEVENT
END:VCALENDAR
