BEGIN:VCALENDAR
VERSION:2.0
PRODID:-//YourOrganization//EventDownload//DE
CALSCALE:GREGORIAN
METHOD:PUBLISH
BEGIN:VEVENT
UID:69e54b5851b0d@leapup.bitshifters.cloud
DTSTAMP:20260419T233832Z
DTSTART:20230425T101500Z
DTEND:20230427T150000Z
SUMMARY:DMEA: Best of Digital Health
DESCRIPTION:Was bewegt die Gesundheits-IT heute und morgen? Antworten auf diese Frage gibt die DMEA mit ihrem umfangreichen Programm bestehend aus Keynotes\, Vortr&auml\;gen\, Panels\, Pitches\, Diskussionsrunden und Workshops.\nJetzt anmelden!
LOCATION:Messe Berlin\, Messedamm 22\, 14055 Berlin
END:VEVENT
END:VCALENDAR
