BEGIN:VCALENDAR
VERSION:2.0
PRODID:-//YourOrganization//EventDownload//DE
CALSCALE:GREGORIAN
METHOD:PUBLISH
BEGIN:VEVENT
UID:69e4dbdf019a6@leapup.bitshifters.cloud
DTSTAMP:20260419T154255Z
DTSTART:20240409T101500Z
DTEND:20240411T150000Z
SUMMARY:DMEA – Connecting Digital Health 
DESCRIPTION:Was bewegt die Gesundheits-IT heute und morgen? Antworten auf diese und viele andere Fragen gibt die DMEA 2024 mit ihrem umfangreichen Programm aus Vortr&auml\;gen\, Diskussionen und Workshops. Auf der B&uuml\;hne treffen Sie Expertinnen und Experten aus Politik\, Wissenschaft und Praxis.\nJetzt anmelden!
LOCATION:Messe Berlin GmbH | Eingang Messe-Süd\, Messedamm 22\, 14055 Berlin
END:VEVENT
END:VCALENDAR
