BEGIN:VCALENDAR
VERSION:2.0
PRODID:-//YourOrganization//EventDownload//DE
CALSCALE:GREGORIAN
METHOD:PUBLISH
BEGIN:VEVENT
UID:69e50f2dcc115@leapup.bitshifters.cloud
DTSTAMP:20260419T192149Z
DTSTART:20241111T000000Z
DTEND:20241112T000000Z
SUMMARY:EFDS-WEBINAR „PFAS in der Dünnschicht- & Oberflächentechnik | Herausforderungen & nachhaltige Alternativen“
DESCRIPTION:
LOCATION:Online-Veranstaltung\, via MS Teams\, -
END:VEVENT
END:VCALENDAR
