BEGIN:VCALENDAR
VERSION:2.0
PRODID:-//YourOrganization//EventDownload//DE
CALSCALE:GREGORIAN
METHOD:PUBLISH
BEGIN:VEVENT
UID:69e501f5cc629@leapup.bitshifters.cloud
DTSTAMP:20260419T182525Z
DTSTART:20251204T085500Z
DTEND:20251204T151500Z
SUMMARY:Einführung und Umsetzung eines Qualitätsmanagements für (KI-basierte) Medizinprodukte (Online)
DESCRIPTION:Das Qualitätsmanagementsystem (QMS) von Medizinprodukteherstellern und KI-Systemanbietern dient als Grundlage für die Einhaltung gesetzlicher Bestimmungen und ermöglicht darüber hinaus die Herstellung sicherer und zuverlässiger Produkte zum Nutzen der Patienten und wirtschaftlichen Erfolg. Die einschlägige europäische Gesetzgebung MDR und AI Act enthalten konkrete Anforderungen\, die durch die Anwendung der Normen EN ISO 13485 bzw. ISO/IEC 42001 zumindest teilweise erfüllt werden.\nIn dieser Veranstaltung wird die Umsetzung des Projekts "Einführung eines Qualitätsmanagementsystems" anhand einer fiktiven Modellorganisation dargestellt. Dabei werden sowohl die QMS-Anforderungen für Medizinprodukte als auch für Hochrisiko-KI-Systeme behandelt. Die theoretischen Grundlagen werden durch Praxisbeispiele aus der Berufserfahrung von Dr. Thorsten Prinz (VDE) ergänzt.\nDas Veranstaltungsformat bietet ausreichend Zeit für Ihre Fragen und Diskussionen.\nDie Vorträge werden in deutscher Sprache gehalten. Sie erhalten alle Präsentationsdateien und Beispieldokumente als PDF (in englischer Sprache).\nWir freuen uns auf Ihre Teilnahme!\nMehr Informationen hier.
END:VEVENT
END:VCALENDAR
