BEGIN:VCALENDAR
VERSION:2.0
PRODID:-//YourOrganization//EventDownload//DE
CALSCALE:GREGORIAN
METHOD:PUBLISH
BEGIN:VEVENT
UID:69e5a17aa2b92@leapup.bitshifters.cloud
DTSTAMP:20260420T054602Z
DTSTART:20210630T140000Z
DTEND:20210630T190000Z
SUMMARY:„Einschnitte – Einblicke“: Endoskopie | Robotik in Diagnostik | Chirurgie
DESCRIPTION:Der WorkshopDer Workshop zum Fachgebiet &bdquo\;Endoskopie | Robotik in Diagnostik | Chirurgie&ldquo\; mit Live-OP-&Uuml\;bertragungen sowie praktischen Demonstrationen im OP der Klinischen Anatomie f&uuml\;hrt f&auml\;cher&uuml\;bergreifend verschiedene Disziplinen an einen Tisch und bietet Fachleuten aus der Medizintechnik die Gelegenheit\, unbew&auml\;ltigte Herausforderungen zu identifizieren &ndash\; und neue L&ouml\;sungsideen zu entwickeln.\nThemen\n\nStarre und flexible Endoskopie / Einmalendoskope\nIntraoperative minimalinvasive Diagnostik\nHaptisches Feedback in Endoskopie und Robotik\n3D Endoskopie\nEndoskopische Navigation\nInnovative Verfahren zur Biopsiegewinnung\nEndoskopiesimulatoren\nDrahtlose Kameras\nIntegration der Bildgebung\n\nWeitere Informationen finden Sie hier.\nBitte melden Sie sich bis zum 25. Juni 2021 an bei Frau Simone Braun\, Sekretariat des Institutes f&uuml\;r Klinische Anatomie und Zellanalytik. simone.braun@uni-tuebingen.de oder T 07071-2972185.
LOCATION:Institut für Klinische Anatomie und Zellanalytik\, Elfriede-Aulhorn-Straße 8 \, 72076 Tübingen
END:VEVENT
END:VCALENDAR
