BEGIN:VCALENDAR
VERSION:2.0
PRODID:-//YourOrganization//EventDownload//DE
CALSCALE:GREGORIAN
METHOD:PUBLISH
BEGIN:VEVENT
UID:69e53ab8d820d@leapup.bitshifters.cloud
DTSTAMP:20260419T222736Z
DTSTART:20240131T160000Z
DTEND:20240131T170000Z
SUMMARY:Einschnitte - Einblicke: Individualisierte Chirurgie: Sensorik | Robotik | KI 
DESCRIPTION:\n\n\n\n\nKostenlose Online-Veranstaltung zum Kennenlernen und Wiedersehen mit Einschnitten und Einblicken exklusiv f&uuml\;r Medizintechniker am Institut f&uuml\;r Klinische Anatomie der Universit&auml\;t T&uuml\;bingen\nDie Veranstaltung zum Fachgebiet&nbsp\;&bdquo\;Individualisierte Chirurgie: Sensorik | Robotik | KI&ldquo\;&nbsp\;findet wieder mit Live-&Uuml\;bertragungen im OP der Klinischen Anatomie statt. Am anatomischen Pr&auml\;parat veranschaulichen leitende &Auml\;rzte verschiedener Fachrichtungen den Medical Need.\nDie Teilnehmer &ndash\; Medizintechniker und Ingenieure &ndash\; sind online dabei und k&ouml\;nnen live mit den Medizinern &uuml\;ber neue Ideen f&uuml\;r Instrumente oder Methoden diskutieren.\nDie Teilnahme an der Veranstaltung ist Mitarbeitenden aus den Entwicklungsabteilungen von Medizintechnik-Unternehmen sowie Studierenden der Medizintechnik vorbehalten. Ein spannender Gedankenaustausch zwischen &Auml\;rzten und Entwicklern via Live-Chat ist also garantiert.\n\n\n\n\n\n\n\n\n\n&nbsp\;\nWeitere Informationen\n\n\n\n
END:VEVENT
END:VCALENDAR
