BEGIN:VCALENDAR
VERSION:2.0
PRODID:-//YourOrganization//EventDownload//DE
CALSCALE:GREGORIAN
METHOD:PUBLISH
BEGIN:VEVENT
UID:69e546d68c963@leapup.bitshifters.cloud
DTSTAMP:20260419T231918Z
DTSTART:20231024T090000Z
DTEND:20231024T160000Z
SUMMARY:Elektromagnetische Verträglichkeit (EMV) bei Medizinprodukten
DESCRIPTION:Die europ&auml\;ische Medizinprodukteverordnung (MDR) fordert bei der Auslegung und Herstellung von Medizinprodukten auch die Sicherstellung der elektromagnetischen Vertr&auml\;glichkeit (EMV). Diese ist gegeben\, wenn die Medizinprodukte eine definierte elektromagnetische St&ouml\;rfestigkeit aufweisen und in der vorgesehenen Umgebung befindliche weitere Produkte oder Ausr&uuml\;stungen in deren Funktion nicht beeintr&auml\;chtigen.&nbsp\;\nDie wichtigste EMV-Norm f&uuml\;r Medizinprodukte ist die IEC 60601-1-2:2014 + AMD1:2020.&nbsp\; Sie legt die Anforderungen an die EMV bei Medizinprodukten fest und erfordert neben Labortests eine umfangreiche Dokumentation wie die Erstellung eines Pr&uuml\;fplans und -berichts. Der dazugeh&ouml\;rige Prozess ist au&szlig\;erdem eng mit dem Risikomanagement des Herstellers verkn&uuml\;pft. Ist ein eine besondere Einsatzumgebungen au&szlig\;erhalb der professionellen medizinischen Praxis (z. B. h&auml\;usliche Umgebung oder Rettungsdienst) vorgesehen\, k&ouml\;nnen Anforderungen aus weiteren Normen hinzukommen.&nbsp\;\nIn dieser Veranstaltung erfahren Sie Schritt f&uuml\;r Schritt\, welche regulatorischen Anforderungen Sie bei der EMV zu erf&uuml\;llen haben. Der Referent wird Ihnen mit konkreten Beispielen aus der beruflichen Praxis weitere Hilfestellungen geben und gerne auch auf Ihre Fragen eingehen. Au&szlig\;erdem werden Sie bei einem Laborrundgang erfahren\, wie die technischen Pr&uuml\;fungen idealerweise durchgef&uuml\;hrt werden.&nbsp\;\nZudem bietet das Veranstaltungsformat ausreichend Zeit f&uuml\;r Ihre Fragen und Diskussionen.&nbsp\;&nbsp\;\nWir freuen uns auf Ihre Teilnahme!&nbsp\;\nMEHR
LOCATION:VDE Verband der Elektrotechnik Elektronik Informationstechnik e.V.\, Merianstr. 28\, 63069 Offenbach am Main
END:VEVENT
END:VCALENDAR
