BEGIN:VCALENDAR
VERSION:2.0
PRODID:-//YourOrganization//EventDownload//DE
CALSCALE:GREGORIAN
METHOD:PUBLISH
BEGIN:VEVENT
UID:69e6f6984f6e7@leapup.bitshifters.cloud
DTSTAMP:20260421T060128Z
DTSTART:20130917T000000Z
DTEND:20130918T000000Z
SUMMARY:Engineering Life 2013: Bio-molecular principles for novel methods and materials
DESCRIPTION:
END:VEVENT
END:VCALENDAR
